BEGIN:VCALENDAR
VERSION:2.0
PRODID:-//LiUNA! Southwest Laborers Training and Apprenticeship Fund - ECPv6.15.20//NONSGML v1.0//EN
CALSCALE:GREGORIAN
METHOD:PUBLISH
X-WR-CALNAME:LiUNA! Southwest Laborers Training and Apprenticeship Fund
X-ORIGINAL-URL:https://swltaf.org
X-WR-CALDESC:Events for LiUNA! Southwest Laborers Training and Apprenticeship Fund
REFRESH-INTERVAL;VALUE=DURATION:PT1H
X-Robots-Tag:noindex
X-PUBLISHED-TTL:PT1H
BEGIN:VTIMEZONE
TZID:America/Chicago
BEGIN:DAYLIGHT
TZOFFSETFROM:-0600
TZOFFSETTO:-0500
TZNAME:CDT
DTSTART:20230312T080000
END:DAYLIGHT
BEGIN:STANDARD
TZOFFSETFROM:-0500
TZOFFSETTO:-0600
TZNAME:CST
DTSTART:20231105T070000
END:STANDARD
BEGIN:DAYLIGHT
TZOFFSETFROM:-0600
TZOFFSETTO:-0500
TZNAME:CDT
DTSTART:20240310T080000
END:DAYLIGHT
BEGIN:STANDARD
TZOFFSETFROM:-0500
TZOFFSETTO:-0600
TZNAME:CST
DTSTART:20241103T070000
END:STANDARD
BEGIN:DAYLIGHT
TZOFFSETFROM:-0600
TZOFFSETTO:-0500
TZNAME:CDT
DTSTART:20250309T080000
END:DAYLIGHT
BEGIN:STANDARD
TZOFFSETFROM:-0500
TZOFFSETTO:-0600
TZNAME:CST
DTSTART:20251102T070000
END:STANDARD
BEGIN:DAYLIGHT
TZOFFSETFROM:-0600
TZOFFSETTO:-0500
TZNAME:CDT
DTSTART:20260308T080000
END:DAYLIGHT
BEGIN:STANDARD
TZOFFSETFROM:-0500
TZOFFSETTO:-0600
TZNAME:CST
DTSTART:20261101T070000
END:STANDARD
END:VTIMEZONE
BEGIN:VEVENT
DTSTART;VALUE=DATE:20250704
DTEND;VALUE=DATE:20250705
DTSTAMP:20260423T032232
CREATED:20250115T160501Z
LAST-MODIFIED:20250115T160501Z
UID:481-1751587200-1751673599@swltaf.org
SUMMARY:Independence Day
DESCRIPTION:
URL:https://swltaf.org/event/independence-day/
END:VEVENT
BEGIN:VEVENT
DTSTART;VALUE=DATE:20250619
DTEND;VALUE=DATE:20250620
DTSTAMP:20260423T032232
CREATED:20250115T160437Z
LAST-MODIFIED:20250115T160437Z
UID:480-1750291200-1750377599@swltaf.org
SUMMARY:Juneteenth
DESCRIPTION:
URL:https://swltaf.org/event/juneteenth/
END:VEVENT
BEGIN:VEVENT
DTSTART;VALUE=DATE:20250615
DTEND;VALUE=DATE:20250616
DTSTAMP:20260423T032232
CREATED:20250115T160413Z
LAST-MODIFIED:20250115T160413Z
UID:478-1749945600-1750031999@swltaf.org
SUMMARY:Father's Day
DESCRIPTION:
URL:https://swltaf.org/event/fathers-day/
END:VEVENT
BEGIN:VEVENT
DTSTART;VALUE=DATE:20250614
DTEND;VALUE=DATE:20250615
DTSTAMP:20260423T032232
CREATED:20250115T160347Z
LAST-MODIFIED:20250115T160347Z
UID:477-1749859200-1749945599@swltaf.org
SUMMARY:Flag Day
DESCRIPTION:
URL:https://swltaf.org/event/flag-day/
END:VEVENT
BEGIN:VEVENT
DTSTART;VALUE=DATE:20250526
DTEND;VALUE=DATE:20250527
DTSTAMP:20260423T032232
CREATED:20250115T160317Z
LAST-MODIFIED:20250115T160317Z
UID:476-1748217600-1748303999@swltaf.org
SUMMARY:Memorial Day
DESCRIPTION:
URL:https://swltaf.org/event/memorial-day/
END:VEVENT
BEGIN:VEVENT
DTSTART;VALUE=DATE:20250511
DTEND;VALUE=DATE:20250512
DTSTAMP:20260423T032232
CREATED:20250115T160232Z
LAST-MODIFIED:20250115T160232Z
UID:474-1746921600-1747007999@swltaf.org
SUMMARY:Mother's Day
DESCRIPTION:
URL:https://swltaf.org/event/mothers-day/
END:VEVENT
BEGIN:VEVENT
DTSTART;VALUE=DATE:20250505
DTEND;VALUE=DATE:20250506
DTSTAMP:20260423T032232
CREATED:20250115T160255Z
LAST-MODIFIED:20250115T160255Z
UID:475-1746403200-1746489599@swltaf.org
SUMMARY:Cinco de Mayo
DESCRIPTION:
URL:https://swltaf.org/event/cinco-de-mayo/
END:VEVENT
BEGIN:VEVENT
DTSTART;VALUE=DATE:20250421
DTEND;VALUE=DATE:20250422
DTSTAMP:20260423T032232
CREATED:20250115T160142Z
LAST-MODIFIED:20250115T160142Z
UID:472-1745193600-1745279999@swltaf.org
SUMMARY:Easter Monday
DESCRIPTION:
URL:https://swltaf.org/event/easter-monday/
END:VEVENT
BEGIN:VEVENT
DTSTART;VALUE=DATE:20250420
DTEND;VALUE=DATE:20250421
DTSTAMP:20260423T032232
CREATED:20250115T160121Z
LAST-MODIFIED:20250115T160121Z
UID:471-1745107200-1745193599@swltaf.org
SUMMARY:Easter
DESCRIPTION:
URL:https://swltaf.org/event/easter/
END:VEVENT
BEGIN:VEVENT
DTSTART;VALUE=DATE:20250415
DTEND;VALUE=DATE:20250416
DTSTAMP:20260423T032232
CREATED:20250115T160207Z
LAST-MODIFIED:20250115T160207Z
UID:473-1744675200-1744761599@swltaf.org
SUMMARY:Tax Day
DESCRIPTION:
URL:https://swltaf.org/event/tax-day/
END:VEVENT
BEGIN:VEVENT
DTSTART;VALUE=DATE:20250324
DTEND;VALUE=DATE:20250328
DTSTAMP:20260423T032232
CREATED:20250207T193123Z
LAST-MODIFIED:20250207T193123Z
UID:527-1742774400-1743119999@swltaf.org
SUMMARY:Apprenticeship Training
DESCRIPTION:
URL:https://swltaf.org/event/apprenticeship-training-3/
LOCATION:Laborers Local 154\, 1110 West Pioneer Prkwy\, Arlington\, Texas\, 76013
END:VEVENT
BEGIN:VEVENT
DTSTART;VALUE=DATE:20250317
DTEND;VALUE=DATE:20250321
DTSTAMP:20260423T032232
CREATED:20250207T193317Z
LAST-MODIFIED:20250207T193317Z
UID:529-1742169600-1742515199@swltaf.org
SUMMARY:Apprenticeship Training
DESCRIPTION:
URL:https://swltaf.org/event/apprenticeship-training-4/
LOCATION:Laborers Local 1095\, 8814 Tradeway St\, San Antonio\, Texas\, 78217
END:VEVENT
BEGIN:VEVENT
DTSTART;VALUE=DATE:20250317
DTEND;VALUE=DATE:20250318
DTSTAMP:20260423T032232
CREATED:20250115T160027Z
LAST-MODIFIED:20250115T160027Z
UID:469-1742169600-1742255999@swltaf.org
SUMMARY:St. Patrick's Day
DESCRIPTION:
URL:https://swltaf.org/event/st-patricks-day/
END:VEVENT
BEGIN:VEVENT
DTSTART;VALUE=DATE:20250309
DTEND;VALUE=DATE:20250310
DTSTAMP:20260423T032232
CREATED:20250115T160052Z
LAST-MODIFIED:20250115T160052Z
UID:470-1741478400-1741564799@swltaf.org
SUMMARY:Daylight Savings
DESCRIPTION:
URL:https://swltaf.org/event/daylight-savings/
END:VEVENT
BEGIN:VEVENT
DTSTART;VALUE=DATE:20250224
DTEND;VALUE=DATE:20250228
DTSTAMP:20260423T032232
CREATED:20250207T193052Z
LAST-MODIFIED:20250207T193052Z
UID:526-1740355200-1740700799@swltaf.org
SUMMARY:Apprenticeship Training
DESCRIPTION:
URL:https://swltaf.org/event/apprenticeship-training-2/
LOCATION:Laborers Local 154\, 1110 West Pioneer Prkwy\, Arlington\, Texas\, 76013
END:VEVENT
BEGIN:VEVENT
DTSTART;VALUE=DATE:20250217
DTEND;VALUE=DATE:20250218
DTSTAMP:20260423T032232
CREATED:20250115T155952Z
LAST-MODIFIED:20250115T155952Z
UID:468-1739750400-1739836799@swltaf.org
SUMMARY:Presidents' Day
DESCRIPTION:
URL:https://swltaf.org/event/presidents-day/
END:VEVENT
BEGIN:VEVENT
DTSTART;VALUE=DATE:20250214
DTEND;VALUE=DATE:20250215
DTSTAMP:20260423T032232
CREATED:20250115T155918Z
LAST-MODIFIED:20250115T155918Z
UID:467-1739491200-1739577599@swltaf.org
SUMMARY:Valentine's Day
DESCRIPTION:
URL:https://swltaf.org/event/valentines-day/
END:VEVENT
BEGIN:VEVENT
DTSTART;VALUE=DATE:20250210
DTEND;VALUE=DATE:20250214
DTSTAMP:20260423T032232
CREATED:20250207T192723Z
LAST-MODIFIED:20250207T192839Z
UID:524-1739145600-1739491199@swltaf.org
SUMMARY:Apprenticeship Training
DESCRIPTION:
URL:https://swltaf.org/event/apprenticeship-training/
LOCATION:Southwest Laborers Training & Apprenticeship Fund\, 980 Hereford Road\, P.O. Box 365\, Springer\, OK\, 73458\, United States
END:VEVENT
BEGIN:VEVENT
DTSTART;VALUE=DATE:20250120
DTEND;VALUE=DATE:20250121
DTSTAMP:20260423T032232
CREATED:20250115T155545Z
LAST-MODIFIED:20250115T155545Z
UID:465-1737331200-1737417599@swltaf.org
SUMMARY:Martin Luther King Jr. Day
DESCRIPTION:
URL:https://swltaf.org/event/martin-luther-king-jr-day/
END:VEVENT
BEGIN:VEVENT
DTSTART;VALUE=DATE:20250120
DTEND;VALUE=DATE:20250121
DTSTAMP:20260423T032232
CREATED:20250115T155518Z
LAST-MODIFIED:20250115T155518Z
UID:464-1737331200-1737417599@swltaf.org
SUMMARY:Inauguration Day
DESCRIPTION:
URL:https://swltaf.org/event/inauguration-day/
END:VEVENT
BEGIN:VEVENT
DTSTART;VALUE=DATE:20241128
DTEND;VALUE=DATE:20241129
DTSTAMP:20260423T032232
CREATED:20241031T220455Z
LAST-MODIFIED:20241031T220455Z
UID:375-1732752000-1732838399@swltaf.org
SUMMARY:Thanksgiving Day
DESCRIPTION:Today we want to give thanks to all of our members and their families.  Have a wonderful Thanksgiving holiday everyone!
URL:https://swltaf.org/event/thanksgiving-day/
END:VEVENT
BEGIN:VEVENT
DTSTART;VALUE=DATE:20241111
DTEND;VALUE=DATE:20241112
DTSTAMP:20260423T032232
CREATED:20241031T220342Z
LAST-MODIFIED:20241031T220342Z
UID:374-1731283200-1731369599@swltaf.org
SUMMARY:Veterans Day
DESCRIPTION:We want to thank all veterans\, particularly those members of LiUNA! that are veterans\, for all that you’ve done for our great country.
URL:https://swltaf.org/event/veterans-day/
END:VEVENT
END:VCALENDAR